Workbook
Name BdD_Noms_Vella_Solsona: #REF!
Name BdD_Noms_Vella_Solsona: #REF!
Name BdD_Noms_Vella_Solsona: Noms_de_les_cases[#All]
Name Noms_cases_sense_comerç: #REF!
Name Noms_cases_sense_comerç: #REF!
Name NomsCasesSenseReperir: #REF!
Name NomsCasesSenseRepetits: #REF!

Sheet Noms de les cases per Barris
A2: Número de Cases de la vella Solsona | G2: =B17 -> 349
A4: Barri | B4: Cases per Barri | C4: %
A5: Sant Cristòfol | B5: =COUNTIFS('Noms de cases i comerços'!D:D,A5,'Noms de cases i comerços'!I:I,"sí")+COUNTIF('Cases sense nom conegut'!B:B,A5) -> 11 | C5: =B5/$B$17 -> 0.031518625
A6: Sant Domènec | B6: =COUNTIFS('Noms de cases i comerços'!D:D,A6,'Noms de cases i comerços'!I:I,"sí")+COUNTIF('Cases sense nom conegut'!B:B,A6) -> 29 | C6: =B6/$B$17 -> 0.083094556
A7: Sant Ignasi | B7: =COUNTIFS('Noms de cases i comerços'!D:D,A7,'Noms de cases i comerços'!I:I,"sí")+COUNTIF('Cases sense nom conegut'!B:B,A7) -> 23 | C7: =B7/$B$17 -> 0.065902579
A8: Sant Joan | B8: =COUNTIFS('Noms de cases i comerços'!D:D,A8,'Noms de cases i comerços'!I:I,"sí")+COUNTIF('Cases sense nom conegut'!B:B,A8) -> 17 | C8: =B8/$B$17 -> 0.048710602
A9: Sant Llorenç | B9: =COUNTIFS('Noms de cases i comerços'!D:D,A9,'Noms de cases i comerços'!I:I,"sí")+COUNTIF('Cases sense nom conegut'!B:B,A9) -> 45 | C9: =B9/$B$17 -> 0.12893983
A10: Sant Miquel | B10: =COUNTIFS('Noms de cases i comerços'!D:D,A10,'Noms de cases i comerços'!I:I,"sí")+COUNTIF('Cases sense nom conegut'!B:B,A10) -> 39 | C10: =B10/$B$17 -> 0.11174785
A11: Sant Pau | B11: =COUNTIFS('Noms de cases i comerços'!D:D,A11,'Noms de cases i comerços'!I:I,"sí")+COUNTIF('Cases sense nom conegut'!B:B,A11) -> 26 | C11: =B11/$B$17 -> 0.074498567
A12: Sant Roc | B12: =COUNTIFS('Noms de cases i comerços'!D:D,A12,'Noms de cases i comerços'!I:I,"sí")+COUNTIF('Cases sense nom conegut'!B:B,A12) -> 33 | C12: =B12/$B$17 -> 0.094555874
A13: Sant Salvador | B13: =COUNTIFS('Noms de cases i comerços'!D:D,A13,'Noms de cases i comerços'!I:I,"sí")+COUNTIF('Cases sense nom conegut'!B:B,A13) -> 20 | C13: =B13/$B$17 -> 0.05730659
A14: Sant Serapi | B14: =COUNTIFS('Noms de cases i comerços'!D:D,A14,'Noms de cases i comerços'!I:I,"sí")+COUNTIF('Cases sense nom conegut'!B:B,A14) -> 22 | C14: =B14/$B$17 -> 0.063037249
A15: Santa Anna | B15: =COUNTIFS('Noms de cases i comerços'!D:D,A15,'Noms de cases i comerços'!I:I,"sí")+COUNTIF('Cases sense nom conegut'!B:B,A15) -> 52 | C15: =B15/$B$17 -> 0.14899713
A16: Santa Susanna | B16: =COUNTIFS('Noms de cases i comerços'!D:D,A16,'Noms de cases i comerços'!I:I,"sí")+COUNTIF('Cases sense nom conegut'!B:B,A16) -> 32 | C16: =B16/$B$17 -> 0.091690544
A17: Total | B17: =SUM(B5:B16) -> 349 | C17: =SUM(C5:C16) -> 1
B18: =COUNTIFS('Noms de cases i comerços'!I:I,"sí")+COUNTA('Cases sense nom conegut'!B:B)-1 -> 349
A20: Número de noms de cases identificats | G20: =B35 -> 770
A22: Barri | B22: Noms identificats | C22: %
A23: Sant Cristòfol | B23: =COUNTIFS('Noms de cases i comerços'!D:D,A23,'Noms de cases i comerços'!F:F,"Sí") -> 18 | C23: =B23/$B$35 -> 0.023376623
A24: Sant Domènec | B24: =COUNTIFS('Noms de cases i comerços'!D:D,A24,'Noms de cases i comerços'!F:F,"Sí") -> 60 | C24: =B24/$B$35 -> 0.077922078
A25: Sant Ignasi | B25: =COUNTIFS('Noms de cases i comerços'!D:D,A25,'Noms de cases i comerços'!F:F,"Sí") -> 61 | C25: =B25/$B$35 -> 0.079220779
A26: Sant Joan | B26: =COUNTIFS('Noms de cases i comerços'!D:D,A26,'Noms de cases i comerços'!F:F,"Sí") -> 47 | C26: =B26/$B$35 -> 0.061038961
A27: Sant Llorenç | B27: =COUNTIFS('Noms de cases i comerços'!D:D,A27,'Noms de cases i comerços'!F:F,"Sí") -> 89 | C27: =B27/$B$35 -> 0.11558442
A28: Sant Miquel | B28: =COUNTIFS('Noms de cases i comerços'!D:D,A28,'Noms de cases i comerços'!F:F,"Sí") -> 108 | C28: =B28/$B$35 -> 0.14025974
A29: Sant Pau | B29: =COUNTIFS('Noms de cases i comerços'!D:D,A29,'Noms de cases i comerços'!F:F,"Sí") -> 32 | C29: =B29/$B$35 -> 0.041558442
A30: Sant Roc | B30: =COUNTIFS('Noms de cases i comerços'!D:D,A30,'Noms de cases i comerços'!F:F,"Sí") -> 97 | C30: =B30/$B$35 -> 0.12597403
A31: Sant Salvador | B31: =COUNTIFS('Noms de cases i comerços'!D:D,A31,'Noms de cases i comerços'!F:F,"Sí") -> 42 | C31: =B31/$B$35 -> 0.054545455
A32: Sant Serapi | B32: =COUNTIFS('Noms de cases i comerços'!D:D,A32,'Noms de cases i comerços'!F:F,"Sí") -> 61 | C32: =B32/$B$35 -> 0.079220779
A33: Santa Anna | B33: =COUNTIFS('Noms de cases i comerços'!D:D,A33,'Noms de cases i comerços'!F:F,"Sí") -> 102 | C33: =B33/$B$35 -> 0.13246753
A34: Santa Susanna | B34: =COUNTIFS('Noms de cases i comerços'!D:D,A34,'Noms de cases i comerços'!F:F,"Sí") -> 53 | C34: =B34/$B$35 -> 0.068831169
A35: Total | B35: =SUM(B23:B34) -> 770 | C35: =SUM(C23:C34) -> 1
A38: Número de noms de cases i comerços | G38: =B53 -> 1097
A40: Barri | B40: Noms identificats | C40: %
A41: Sant Cristòfol | B41: =COUNTIF('Noms de cases i comerços'!D:D,A41) -> 35 | C41: =B41/$B$53 -> 0.031905196
A42: Sant Domènec | B42: =COUNTIF('Noms de cases i comerços'!D:D,A42) -> 123 | C42: =B42/$B$53 -> 0.11212397
A43: Sant Ignasi | B43: =COUNTIF('Noms de cases i comerços'!D:D,A43) -> 70 | C43: =B43/$B$53 -> 0.063810392
A44: Sant Joan | B44: =COUNTIF('Noms de cases i comerços'!D:D,A44) -> 64 | C44: =B44/$B$53 -> 0.05834093
A45: Sant Llorenç | B45: =COUNTIF('Noms de cases i comerços'!D:D,A45) -> 99 | C45: =B45/$B$53 -> 0.090246126
A46: Sant Miquel | B46: =COUNTIF('Noms de cases i comerços'!D:D,A46) -> 162 | C46: =B46/$B$53 -> 0.14767548
A47: Sant Pau | B47: =COUNTIF('Noms de cases i comerços'!D:D,A47) -> 41 | C47: =B47/$B$53 -> 0.037374658
...

Sheet Estadístiques
A2: Identificació del nom de la casa | B2: Noms identificats | C2: %
A3: casa | B3: =COUNTIFS('Noms de cases i comerços'!N:N,A3,'Noms de cases i comerços'!F:F,"Sí") -> 555 | C3: =B3/$B$7 -> 0.72077922
A4: comerç | B4: =COUNTIFS('Noms de cases i comerços'!N:N,A4,'Noms de cases i comerços'!F:F,"Sí") -> 105 | C4: =B4/$B$7 -> 0.13636364
A5: família | B5: =COUNTIFS('Noms de cases i comerços'!N:N,A5,'Noms de cases i comerços'!F:F,"Sí") -> 69 | C5: =B5/$B$7 -> 0.08961039
A6: propietari | B6: =COUNTIFS('Noms de cases i comerços'!N:N,A6,'Noms de cases i comerços'!F:F,"Sí") -> 41 | C6: =B6/$B$7 -> 0.053246753
A7: Total | B7: =SUM(B3:B6) -> 770 | C7: =SUM(C3:C6) -> 1
A14: Génere del nom de els cases | B14: Noms identificats | C14: %
A15: masculí | B15: =COUNTIFS('Noms de cases i comerços'!E:E,A15,'Noms de cases i comerços'!F:F,"Sí") -> 642 | C15: =B15/$B$17 -> 0.83376623
A16: femení | B16: =COUNTIFS('Noms de cases i comerços'!E:E,A16,'Noms de cases i comerços'!F:F,"Sí") -> 128 | C16: =B16/$B$17 -> 0.16623377
A17: Total | B17: =SUM(B15:B16) -> 770 | C17: =SUM(C15:C16) -> 1
A25: Nom de la casa destacat vs alternatiu | B25: Noms identificats | C25: %
A26: Nom destacat | B26: =COUNTIFS('Noms de cases i comerços'!I:I,"sí",'Noms de cases i comerços'!F:F,"Sí") -> 339 | C26: =B26/$B$28 -> 0.44025974
A27: Nom alternatiu | B27: =COUNTIFS('Noms de cases i comerços'!I:I,"no",'Noms de cases i comerços'!F:F,"Sí") -> 431 | C27: =B27/$B$28 -> 0.55974026
A28: Total | B28: =SUM(B26:B27) -> 770 | C28: =SUM(C26:C27) -> 1
A30: Noms que té de mitjana cada casa: | B30: =B28/B26 -> 2.2713864
A37: Cases documentades vs buscant informació | B37: Noms identificats | C37: %
A38: Documentades | B38: =COUNTIFS('Noms de cases i comerços'!H:H,"sí",'Noms de cases i comerços'!I:I,"sí") -> 314 | C38: =B38/$B$41 -> 0.89971347
A39: Buscant informació | B39: =COUNTIFS('Noms de cases i comerços'!H:H,"no",'Noms de cases i comerços'!I:I,"sí") -> 25 | C39: =B39/$B$41 -> 0.071633238
A40: Sense nom conegut | B40: =COUNTA('Cases sense nom conegut'!B:B)-1 -> 10 | C40: =B40/$B$41 -> 0.028653295
A41: Total | B41: =SUM(B38:B40) -> 349 | C41: =SUM(C38:C40) -> 1
A51: Noms de cases existents vs desaparegudes | B51: Noms identificats | C51: %
A52: Noms de cases que encara hi són | B52: =COUNTIFS('Noms de cases i comerços'!G:G,"sí",'Noms de cases i comerços'!F:F,"Sí") -> 704 | C52: =B52/$B$54 -> 0.91428571
A53: Noms de cases desaparegudes (enderrocades) | B53: =COUNTIFS('Noms de cases i comerços'!G:G,"no",'Noms de cases i comerços'!F:F,"Sí") -> 66 | C53: =B53/$B$54 -> 0.085714286
A54: Total | B54: =SUM(B52:B53) -> 770 | C54: =SUM(C52:C53) -> 1
A55: Nota: Considerant tots els noms de cases
A56: Moltes d'aquestes cases no hi son perquè de dues o més de velles se n'ha fet una de nova.
A63: Cases existents vs desaparegudes | B63: Noms identificats | C63: %
A64: Cases estudiades que existeixen | B64: =COUNTIFS('Noms de cases i comerços'!G:G,"sí",'Noms de cases i comerços'!I:I,"sí")+COUNT('Cases sense nom conegut'!A2:A11) -> 341 | C64: =B64/$B$66 -> 0.97707736
A65: Noms de cases desaparegudes (enderrocades) | B65: =COUNTIFS('Noms de cases i comerços'!G:G,"no",'Noms de cases i comerços'!I:I,"sí") -> 8 | C65: =B65/$B$66 -> 0.022922636
A66: Total | B66: =SUM(B64:B65) -> 349 | C66: =SUM(C64:C65) -> 1
A67: Nota: Considerant només el nom principal.
A68: En aquest cas son cases que ara no hi són.

Sheet Nivell d'us
A3: Us dels noms de les cases | B3: Noms identificats | C3: %
A4: Habitual | B4: =COUNTIFS('Noms de cases i comerços'!L:L,A4,'Noms de cases i comerços'!F:F,"Sí") -> 225 | C4: =B4/$B$20 -> 0.29220779
A5: Ocasional | B5: =COUNTIFS('Noms de cases i comerços'!L:L,A5,'Noms de cases i comerços'!F:F,"Sí") -> 318 | C5: =B5/$B$20 -> 0.41298701
A6: Minoritari | B6: =COUNTIFS('Noms de cases i comerços'!L:L,A6,'Noms de cases i comerços'!F:F,"Sí") -> 227 | C6: =B6/$B$20 -> 0.29480519
A7: Total | B7: =SUM(B4:B6) -> 770 | C7: =SUM(C4:C6) -> 1
A14: Nivell d'us dels noms de les cases | B14: Noms identificats | C14: %
A15: Habitual (entre el 80 i el 100%) | B15: =COUNTIFS('Noms de cases i comerços'!K:K,1,'Noms de cases i comerços'!F:F,"Sí") -> 94 | C15: =B15/$B$20 -> 0.12207792
A16: Freqüent (entre el 60 i el 80%) | B16: =COUNTIFS('Noms de cases i comerços'!K:K,0.8,'Noms de cases i comerços'!F:F,"Sí") -> 131 | C16: =B16/$B$20 -> 0.17012987
A17: Ocasional (entre el 40 i el 60%) | B17: =COUNTIFS('Noms de cases i comerços'!K:K,0.6,'Noms de cases i comerços'!F:F,"Sí") -> 187 | C17: =B17/$B$20 -> 0.24285714
A18: Minoritari (entre el 20 i el 40%) | B18: =COUNTIFS('Noms de cases i comerços'!K:K,0.4,'Noms de cases i comerços'!F:F,"Sí") -> 131 | C18: =B18/$B$20 -> 0.17012987
A19: Expert (entre el 1 i el 20%) | B19: =COUNTIFS('Noms de cases i comerços'!K:K,0.2,'Noms de cases i comerços'!F:F,"Sí") -> 227 | C19: =B19/$B$20 -> 0.29480519
A20: Total | B20: =SUM(B15:B19) -> 770 | C20: =SUM(C15:C19) -> 1
A25: Noms vius vs d'us residual | B25: Noms identificats | C25: %
A26: Noms vius | B26: =COUNTIFS('Noms de cases i comerços'!J:J,"sí",'Noms de cases i comerços'!F:F,"Sí") -> 412 | C26: =B26/$B$28 -> 0.53506494
A27: Noms d'us residual | B27: =COUNTIFS('Noms de cases i comerços'!J:J,"no",'Noms de cases i comerços'!F:F,"Sí") -> 358 | C27: =B27/$B$28 -> 0.46493506
A28: Total | B28: =SUM(B26:B27) -> 770 | C28: =SUM(C26:C27) -> 1

Sheet Estructura morfològica
A2: Noms de les cases (sense repeticions i el comerç exclosos)
A3: Estructura morfològica | B3: Noms identificats | C3: %
A4: a: casa+article+nom propi | B4: =COUNTIFS('Noms cases sense repetir'!O:O,A4,'Noms cases sense repetir'!F:F,"<>no") -> 292 | C4: =B4/$B$19 -> 0.41833811
A5: b: casa+article+nom propi+nom propi | B5: =COUNTIFS('Noms cases sense repetir'!O:O,A5,'Noms cases sense repetir'!F:F,"<>no") -> 60 | C5: =B5/$B$19 -> 0.085959885
A6: c: casa+article+nom propi+nom comú | B6: =COUNTIFS('Noms cases sense repetir'!O:O,A6,'Noms cases sense repetir'!F:F,"<>no") -> 12 | C6: =B6/$B$19 -> 0.017191977
A7: d: casa+article+nom propi+adjectiu | B7: =COUNTIFS('Noms cases sense repetir'!O:O,A7,'Noms cases sense repetir'!F:F,"<>no") -> 8 | C7: =B7/$B$19 -> 0.011461318
A8: e: casa+article+nom propi+sintagma nominal | B8: =COUNTIFS('Noms cases sense repetir'!O:O,A8,'Noms cases sense repetir'!F:F,"<>no") -> 42 | C8: =B8/$B$19 -> 0.06017192
A9: f: casa+article+nom comú | B9: =COUNTIFS('Noms cases sense repetir'!O:O,A9,'Noms cases sense repetir'!F:F,"<>no") -> 105 | C9: =B9/$B$19 -> 0.1504298
A10: g: casa+article+nom comú+nom propi | B10: =COUNTIFS('Noms cases sense repetir'!O:O,A10,'Noms cases sense repetir'!F:F,"<>no") -> 42 | C10: =B10/$B$19 -> 0.06017192
A11: h: casa+article+nom comú+adjectiu | B11: =COUNTIFS('Noms cases sense repetir'!O:O,A11,'Noms cases sense repetir'!F:F,"<>no") -> 9 | C11: =B11/$B$19 -> 0.012893983
A12: i: casa+article+nom comú+sintagma nominal | B12: =COUNTIFS('Noms cases sense repetir'!O:O,A12,'Noms cases sense repetir'!F:F,"<>no") -> 11 | C12: =B12/$B$19 -> 0.015759312
A13: j: casa+article+adjectiu+nom propi | B13: =COUNTIFS('Noms cases sense repetir'!O:O,A13,'Noms cases sense repetir'!F:F,"<>no") -> 2 | C13: =B13/$B$19 -> 0.0028653295
A14: k: casa+article+adjectiu+nom comú | B14: =COUNTIFS('Noms cases sense repetir'!O:O,A14,'Noms cases sense repetir'!F:F,"<>no") -> 0 | C14: =B14/$B$19 -> 0
A15: l: sintagma nominal | B15: =COUNTIFS('Noms cases sense repetir'!O:O,A15,'Noms cases sense repetir'!F:F,"<>no") -> 115 | C15: =B15/$B$19 -> 0.16475645
B16: =COUNTIFS('Noms cases sense repetir'!O:O,A16,'Noms cases sense repetir'!F:F,"<>no") -> 0 | C16: =B16/$B$19 -> 0
B17: =COUNTIFS('Noms cases sense repetir'!O:O,A17,'Noms cases sense repetir'!F:F,"<>no") -> 0 | C17: =B17/$B$19 -> 0
B18: =COUNTIFS('Noms cases sense repetir'!O:O,A18,'Noms cases sense repetir'!F:F,"<>no") -> 0 | C18: =B18/$B$19 -> 0
A19: Total | B19: =SUM(B4:B18) -> 698 | C19: =SUM(C4:C18) -> 1
A21: Nom destacat de la casa (un nom per casa)
A22: Estructura morfològica | B22: Noms identificats | C22: %
A23: a: casa+article+nom propi | B23: =COUNTIFS('Noms de cases i comerços'!O:O,A23,'Noms de cases i comerços'!I:I,"sí") -> 171 | C23: =B23/$B$38 -> 0.50442478
A24: b: casa+article+nom propi+nom propi | B24: =COUNTIFS('Noms de cases i comerços'!O:O,A24,'Noms de cases i comerços'!I:I,"sí") -> 19 | C24: =B24/$B$38 -> 0.056047198
A25: c: casa+article+nom propi+nom comú | B25: =COUNTIFS('Noms de cases i comerços'!O:O,A25,'Noms de cases i comerços'!I:I,"sí") -> 4 | C25: =B25/$B$38 -> 0.01179941
A26: d: casa+article+nom propi+adjectiu | B26: =COUNTIFS('Noms de cases i comerços'!O:O,A26,'Noms de cases i comerços'!I:I,"sí") -> 6 | C26: =B26/$B$38 -> 0.017699115
A27: e: casa+article+nom propi+sintagma nominal | B27: =COUNTIFS('Noms de cases i comerços'!O:O,A27,'Noms de cases i comerços'!I:I,"sí") -> 22 | C27: =B27/$B$38 -> 0.064896755
A28: f: casa+article+nom comú | B28: =COUNTIFS('Noms de cases i comerços'!O:O,A28,'Noms de cases i comerços'!I:I,"sí") -> 53 | C28: =B28/$B$38 -> 0.15634218
A29: g: casa+article+nom comú+nom propi | B29: =COUNTIFS('Noms de cases i comerços'!O:O,A29,'Noms de cases i comerços'!I:I,"sí") -> 18 | C29: =B29/$B$38 -> 0.053097345
A30: h: casa+article+nom comú+adjectiu | B30: =COUNTIFS('Noms de cases i comerços'!O:O,A30,'Noms de cases i comerços'!I:I,"sí") -> 5 | C30: =B30/$B$38 -> 0.014749263
A31: i: casa+article+nom comú+sintagma nominal | B31: =COUNTIFS('Noms de cases i comerços'!O:O,A31,'Noms de cases i comerços'!I:I,"sí") -> 7 | C31: =B31/$B$38 -> 0.020648968
A32: j: casa+article+adjectiu+nom propi | B32: =COUNTIFS('Noms de cases i comerços'!O:O,A32,'Noms de cases i comerços'!I:I,"sí") -> 1 | C32: =B32/$B$38 -> 0.0029498525
A33: k: casa+article+adjectiu+nom comú | B33: =COUNTIFS('Noms de cases i comerços'!O:O,A33,'Noms de cases i comerços'!I:I,"sí") -> 0 | C33: =B33/$B$38 -> 0
A34: l: sintagma nominal | B34: =COUNTIFS('Noms de cases i comerços'!O:O,A34,'Noms de cases i comerços'!I:I,"sí") -> 33 | C34: =B34/$B$38 -> 0.097345133
B35: =COUNTIFS('Noms de cases i comerços'!O:O,A35,'Noms de cases i comerços'!I:I,"sí") -> 0 | C35: =B35/$B$38 -> 0
B36: =COUNTIFS('Noms de cases i comerços'!O:O,A36,'Noms de cases i comerços'!I:I,"sí") -> 0 | C36: =B36/$B$38 -> 0
B37: =COUNTIFS('Noms de cases i comerços'!O:O,A37,'Noms de cases i comerços'!I:I,"sí") -> 0 | C37: =B37/$B$38 -> 0
A38: Total | B38: =SUM(B23:B37) -> 339 | C38: =SUM(C23:C37) -> 1
A41: Tots els noms identificats (cases i comerços)
A42: Estructura morfològica | B42: Noms identificats | C42: %
A43: a: casa+article+nom propi | B43: =COUNTIF('Noms de cases i comerços'!O:O,A43) -> 415 | C43: =B43/$B$58 -> 0.37830447
A44: b: casa+article+nom propi+nom propi | B44: =COUNTIF('Noms de cases i comerços'!O:O,A44) -> 69 | C44: =B44/$B$58 -> 0.062898815
...

Sheet Tipologia semàntica
A2: Noms de les cases (sense repeticions i el comerç exclosos)
A3: Tipologia semàntica | B3: Noms identificats | C3: %
A4: a: prenom | B4: =COUNTIFS('Noms cases sense repetir'!P:P,A4,'Noms cases sense repetir'!F:F,"<>no") -> 48 | C4: =B4/$B$22 -> 0.068767908
A5: b: prenom+llinatge | B5: =COUNTIFS('Noms cases sense repetir'!P:P,A5,'Noms cases sense repetir'!F:F,"<>no") -> 58 | C5: =B5/$B$22 -> 0.083094556
A6: c: prenom+ofici | B6: =COUNTIFS('Noms cases sense repetir'!P:P,A6,'Noms cases sense repetir'!F:F,"<>no") -> 16 | C6: =B6/$B$22 -> 0.022922636
A7: d: prenom+origen | B7: =COUNTIFS('Noms cases sense repetir'!P:P,A7,'Noms cases sense repetir'!F:F,"<>no") -> 32 | C7: =B7/$B$22 -> 0.045845272
A8: e: prenom+malnom | B8: =COUNTIFS('Noms cases sense repetir'!P:P,A8,'Noms cases sense repetir'!F:F,"<>no") -> 8 | C8: =B8/$B$22 -> 0.011461318
A9: f: llinatge | B9: =COUNTIFS('Noms cases sense repetir'!P:P,A9,'Noms cases sense repetir'!F:F,"<>no") -> 198 | C9: =B9/$B$22 -> 0.28366762
A10: g: llinatge+ofici | B10: =COUNTIFS('Noms cases sense repetir'!P:P,A10,'Noms cases sense repetir'!F:F,"<>no") -> 55 | C10: =B10/$B$22 -> 0.078796562
A11: h: llinatge+origen | B11: =COUNTIFS('Noms cases sense repetir'!P:P,A11,'Noms cases sense repetir'!F:F,"<>no") -> 16 | C11: =B11/$B$22 -> 0.022922636
A12: i: llinatge+malnom | B12: =COUNTIFS('Noms cases sense repetir'!P:P,A12,'Noms cases sense repetir'!F:F,"<>no") -> 1 | C12: =B12/$B$22 -> 0.0014326648
A13: j: ofici | B13: =COUNTIFS('Noms cases sense repetir'!P:P,A13,'Noms cases sense repetir'!F:F,"<>no") -> 53 | C13: =B13/$B$22 -> 0.075931232
A14: k: ofici+origen | B14: =COUNTIFS('Noms cases sense repetir'!P:P,A14,'Noms cases sense repetir'!F:F,"<>no") -> 14 | C14: =B14/$B$22 -> 0.020057307
A15: l: ofici+malnom | B15: =COUNTIFS('Noms cases sense repetir'!P:P,A15,'Noms cases sense repetir'!F:F,"<>no") -> 7 | C15: =B15/$B$22 -> 0.010028653
... A21: x: opac | B21: =COUNTIFS('Noms cases sense repetir'!P:P,A21,'Noms cases sense repetir'!F:F,"<>no") -> 11 | C21: =B21/$B$22 -> 0.015759312
A22: Total | B22: =SUM(B4:B21) -> 698 | C22: =SUM(C4:C21) -> 1
A24: Nom destacat de la casa (un nom per casa)
A25: Tipologia semàntica | B25: Noms identificats | C25: %
A26: a: prenom | B26: =COUNTIFS('Noms de cases i comerços'!P:P,A26,'Noms de cases i comerços'!I:I,"sí") -> 23 | C26: =B26/$B$44 -> 0.067846608
A27: b: prenom+llinatge | B27: =COUNTIFS('Noms de cases i comerços'!P:P,A27,'Noms de cases i comerços'!I:I,"sí") -> 18 | C27: =B27/$B$44 -> 0.053097345
A28: c: prenom+ofici | B28: =COUNTIFS('Noms de cases i comerços'!P:P,A28,'Noms de cases i comerços'!I:I,"sí") -> 9 | C28: =B28/$B$44 -> 0.026548673
A29: d: prenom+origen | B29: =COUNTIFS('Noms de cases i comerços'!P:P,A29,'Noms de cases i comerços'!I:I,"sí") -> 19 | C29: =B29/$B$44 -> 0.056047198
A30: e: prenom+malnom | B30: =COUNTIFS('Noms de cases i comerços'!P:P,A30,'Noms de cases i comerços'!I:I,"sí") -> 4 | C30: =B30/$B$44 -> 0.01179941
A31: f: llinatge | B31: =COUNTIFS('Noms de cases i comerços'!P:P,A31,'Noms de cases i comerços'!I:I,"sí") -> 115 | C31: =B31/$B$44 -> 0.33923304
A32: g: llinatge+ofici | B32: =COUNTIFS('Noms de cases i comerços'!P:P,A32,'Noms de cases i comerços'!I:I,"sí") -> 13 | C32: =B32/$B$44 -> 0.038348083
A33: h: llinatge+origen | B33: =COUNTIFS('Noms de cases i comerços'!P:P,A33,'Noms de cases i comerços'!I:I,"sí") -> 7 | C33: =B33/$B$44 -> 0.020648968
A34: i: llinatge+malnom | B34: =COUNTIFS('Noms de cases i comerços'!P:P,A34,'Noms de cases i comerços'!I:I,"sí") -> 0 | C34: =B34/$B$44 -> 0
A35: j: ofici | B35: =COUNTIFS('Noms de cases i comerços'!P:P,A35,'Noms de cases i comerços'!I:I,"sí") -> 27 | C35: =B35/$B$44 -> 0.079646018
A36: k: ofici+origen | B36: =COUNTIFS('Noms de cases i comerços'!P:P,A36,'Noms de cases i comerços'!I:I,"sí") -> 8 | C36: =B36/$B$44 -> 0.02359882
A37: l: ofici+malnom | B37: =COUNTIFS('Noms de cases i comerços'!P:P,A37,'Noms de cases i comerços'!I:I,"sí") -> 5 | C37: =B37/$B$44 -> 0.014749263
... A43: x: opac | B43: =COUNTIFS('Noms de cases i comerços'!P:P,A43,'Noms de cases i comerços'!I:I,"sí") -> 6 | C43: =B43/$B$44 -> 0.017699115
A44: Total | B44: =SUM(B26:B43) -> 339 | C44: =SUM(C26:C43) -> 1
A47: Tots els noms identificats (cases i comerços)
A48: Tipologia semàntica | B48: Noms identificats | C48: %
A49: a: prenom | B49: =COUNTIF('Noms de cases i comerços'!P:P,A49) -> 78 | C49: =B49/$B$67 -> 0.071103008
A50: b: prenom+llinatge | B50: =COUNTIF('Noms de cases i comerços'!P:P,A50) -> 66 | C50: =B50/$B$67 -> 0.060164084
A51: c: prenom+ofici | B51: =COUNTIF('Noms de cases i comerços'!P:P,A51) -> 41 | C51: =B51/$B$67 -> 0.037374658
A52: d: prenom+origen | B52: =COUNTIF('Noms de cases i comerços'!P:P,A52) -> 38 | C52: =B52/$B$67 -> 0.034639927
A53: e: prenom+malnom | B53: =COUNTIF('Noms de cases i comerços'!P:P,A53) -> 16 | C53: =B53/$B$67 -> 0.014585232
A54: f: llinatge | B54: =COUNTIF('Noms de cases i comerços'!P:P,A54) -> 272 | C54: =B54/$B$67 -> 0.24794895
...

Sheet Cases sense nom conegut
A1: # | B1: Barri | C1: Adreça principal casa | D1: Nom Casa
A2: 1 | B2: Sant Llorenç | C2: Carrer de Santa Llúcia 7 | D2: Sense nom conegut
A3: =A2+1 -> 2 | B3: Sant Pau | C3: Carrer de les Llices 18 | D3: Sense nom conegut
A4: =A3+1 -> 3 | B4: Sant Pau | C4: Carrer de les Llices 22 | D4: Sense nom conegut
A5: =A4+1 -> 4 | B5: Sant Pau | C5: Carrer de Sant Pau 13 | D5: Sense nom conegut
A6: =A5+1 -> 5 | B6: Sant Pau | C6: Carrer de Sant Pau 17 | D6: Sense nom conegut
A7: =A6+1 -> 6 | B7: Sant Pau | C7: Carrer de Sant Pau 23 | D7: Sense nom conegut
A8: =A7+1 -> 7 | B8: Santa Anna | C8: Carrer Estret 4 | D8: Sense nom conegut
A9: =A8+1 -> 8 | B9: Santa Anna | C9: Travessia de Sant Isidre 10 | D9: Sense nom conegut
A10: =A9+1 -> 9 | B10: Santa Susanna | C10: Carrer Sant Pere 5 | D10: Sense nom conegut
A11: =A10+1 -> 10 | B11: Santa Susanna | C11: Carrer Sant Pere 7 | D11: Sense nom conegut

Sheet Noms de cases i comerços
A1: # | B1: Nom Casa | C1: Adreça principal casa | D1: Barri | E1: Gènere | F1: Nom casa | G1: Casa existent? | H1: Documentat | I1: Nom destacat? | J1: Nom Actual? | K1: Nivell d'us (%) | L1: Nivell d'us | M1: Tipus | N1: Identifica | O1: Estructura morfològica | P1: Tipologia semàntica
A2: 1 | B2: Administració de loteria la Vinya | C2: Carrer Castell 10 | D2: Sant Domènec | E2: femení | F2: no | G2: sí | H2: sí | I2: no | J2: si | K2: 0.6 | L2: =IF(Noms_de_les_cases[[#This Row],[Nivell d''us (%)]]>0.7,"Habitual",IF(Noms_de_les_cases[[#This Row],[Nivell d''us (%)]]<0.3,"Minoritari","Ocasional")) -> Ocasional | M2: marca | N2: comerç | O2: l: sintagma nominal | P2: q: nom comercial
A3: =A2+1 -> 2 | B3: Advocats Candi Associats | C3: Carrer Castell 24 i 26 | D3: Santa Susanna | E3: masculí | F3: no | G3: sí | H3: sí | I3: no | J3: sí | K3: 1 | L3: =IF(Noms_de_les_cases[[#This Row],[Nivell d''us (%)]]>0.7,"Habitual",IF(Noms_de_les_cases[[#This Row],[Nivell d''us (%)]]<0.3,"Minoritari","Ocasional")) -> Habitual | M3: ofici | N3: comerç | O3: l: sintagma nominal | P3: c: prenom+ofici
A4: =A3+1 -> 3 | B4: Aletheia (centre holístic) | C4: Carrer de Sant Pau 21 | D4: Sant Pau | E4: masculí | F4: no | G4: sí | H4: sí | I4: no | J4: sí | K4: 1 | L4: =IF(Noms_de_les_cases[[#This Row],[Nivell d''us (%)]]>0.7,"Habitual",IF(Noms_de_les_cases[[#This Row],[Nivell d''us (%)]]<0.3,"Minoritari","Ocasional")) -> Habitual | M4: marca | N4: comerç | O4: l: sintagma nominal | P4: q: nom comercial
A5: =A4+1 -> 4 | B5: Antiga Caixa de Pensions i Biblioteca | C5: Carrer Castell 32 | D5: Santa Susanna | E5: femení | F5: sí | G5: sí | H5: sí | I5: sí | J5: no | K5: 0.4 | L5: =IF(Noms_de_les_cases[[#This Row],[Nivell d''us (%)]]>0.7,"Habitual",IF(Noms_de_les_cases[[#This Row],[Nivell d''us (%)]]<0.3,"Minoritari","Ocasional")) -> Ocasional | M5: institució | N5: casa | O5: l: sintagma nominal | P5: q: nom comercial
A6: =A5+1 -> 5 | B6: AR MAGICS (botiga de roba) | C6: Carrer Castell 6 | D6: Sant Domènec | E6: masculí | F6: no | G6: sí | H6: sí | I6: no | J6: no | K6: 0.2 | L6: =IF(Noms_de_les_cases[[#This Row],[Nivell d''us (%)]]>0.7,"Habitual",IF(Noms_de_les_cases[[#This Row],[Nivell d''us (%)]]<0.3,"Minoritari","Ocasional")) -> Minoritari | M6: marca | N6: comerç | O6: l: sintagma nominal | P6: q: nom comercial
A7: =A6+1 -> 6 | B7: Arxiu Comarcal del Solsonès | C7: Carrer dels Dominics 12 i 14 | D7: Sant Ignasi | E7: masculí | F7: no | G7: sí | H7: sí | I7: no | J7: sí | K7: 1 | L7: =IF(Noms_de_les_cases[[#This Row],[Nivell d''us (%)]]>0.7,"Habitual",IF(Noms_de_les_cases[[#This Row],[Nivell d''us (%)]]<0.3,"Minoritari","Ocasional")) -> Habitual | M7: institució | N7: comerç | O7: l: sintagma nominal | P7: p: institució
A8: =A7+1 -> 7 | B8: Arxiu Diocesà | C8: Plaça de Palau Episcopal 1 | D8: Sant Serapi | E8: masculí | F8: no | G8: sí | H8: sí | I8: no | J8: sí | K8: 1 | L8: =IF(Noms_de_les_cases[[#This Row],[Nivell d''us (%)]]>0.7,"Habitual",IF(Noms_de_les_cases[[#This Row],[Nivell d''us (%)]]<0.3,"Minoritari","Ocasional")) -> Habitual | M8: institució | N8: comerç | O8: l: sintagma nominal | P8: p: institució
A9: =A8+1 -> 8 | B9: Assessoria Jurídica Palou-Jounou | C9: Carrer Castell 12 | D9: Sant Domènec | E9: masculí | F9: no | G9: sí | H9: sí | I9: no | J9: sí | K9: 1 | L9: =IF(Noms_de_les_cases[[#This Row],[Nivell d''us (%)]]>0.7,"Habitual",IF(Noms_de_les_cases[[#This Row],[Nivell d''us (%)]]<0.3,"Minoritari","Ocasional")) -> Habitual | M9: marca | N9: comerç | O9: l: sintagma nominal | P9: g: llinatge+ofici
A10: =A9+1 -> 9 | B10: Banc de Madrid | C10: Plaça de la Catedral 4 | D10: Sant Miquel | E10: masculí | F10: no | G10: sí | H10: sí | I10: no | J10: no | K10: 0.2 | L10: =IF(Noms_de_les_cases[[#This Row],[Nivell d''us (%)]]>0.7,"Habitual",IF(Noms_de_les_cases[[#This Row],[Nivell d''us (%)]]<0.3,"Minoritari","Ocasional")) -> Minoritari | M10: marca | N10: comerç | O10: l: sintagma nominal | P10: q: nom comercial
A11: =A10+1 -> 10 | B11: Banc Sabadell | C11: Carrer dels Dominics 6 | D11: Sant Miquel | E11: masculí | F11: no | G11: sí | H11: sí | I11: no | J11: sí | K11: 1 | L11: =IF(Noms_de_les_cases[[#This Row],[Nivell d''us (%)]]>0.7,"Habitual",IF(Noms_de_les_cases[[#This Row],[Nivell d''us (%)]]<0.3,"Minoritari","Ocasional")) -> Habitual | M11: marca | N11: comerç | O11: l: sintagma nominal | P11: q: nom comercial
A12: =A11+1 -> 11 | B12: Banc Santander | C12: Plaça de Sant Pere 10 | D12: Santa Anna | E12: masculí | F12: no | G12: sí | H12: sí | I12: no | J12: no | K12: 0.4 | L12: =IF(Noms_de_les_cases[[#This Row],[Nivell d''us (%)]]>0.7,"Habitual",IF(Noms_de_les_cases[[#This Row],[Nivell d''us (%)]]<0.3,"Minoritari","Ocasional")) -> Ocasional | M12: marca | N12: comerç | O12: l: sintagma nominal | P12: q: nom comercial
A13: =A12+1 -> 12 | B13: Banca Catalana | C13: Plaça de Palau Episcopal 2 | D13: Sant Serapi | E13: femení | F13: no | G13: sí | H13: sí | I13: no | J13: no | K13: 0.2 | L13: =IF(Noms_de_les_cases[[#This Row],[Nivell d''us (%)]]>0.7,"Habitual",IF(Noms_de_les_cases[[#This Row],[Nivell d''us (%)]]<0.3,"Minoritari","Ocasional")) -> Minoritari | M13: marca | N13: comerç | O13: l: sintagma nominal | P13: q: nom comercial
A14: =A13+1 -> 13 | B14: Banco Catalán de Desarrollo | C14: Plaça de la Catedral 4 | D14: Sant Miquel | E14: masculí | F14: no | G14: sí | H14: sí | I14: no | J14: no | K14: 0.2 | L14: =IF(Noms_de_les_cases[[#This Row],[Nivell d''us (%)]]>0.7,"Habitual",IF(Noms_de_les_cases[[#This Row],[Nivell d''us (%)]]<0.3,"Minoritari","Ocasional")) -> Minoritari | M14: marca | N14: comerç | O14: l: sintagma nominal | P14: q: nom comercial
... A254: =A253+1 -> 253 | B254: Cal Bolet | C254: Carrer de Sant Cristòfol 7 | D254: Sant Cristòfol | E254: masculí | F254: sí | G254: sí | H254: sí | I254: sí | J254: no | K254: 0.2 | L254: =IF(Noms_de_les_cases[[#This Row],[Nivell d''us (%)]]>0.7,"Habitual",IF(Noms_de_les_cases[[#This Row],[Nivell d''us (%)]]<0.3,"Minoritari","Ocasional")) -> Minoritari | M254: origen | N254: casa | O254: a: casa+article+nom propi | P254: m: origen
A255: =A254+1 -> 254 | B255: Cal Bombo | C255: Carrer de Sant Cristòfol 3 | D255: Sant Cristòfol | E255: masculí | F255: sí | G255: sí | H255: sí | I255: no | J255: no | K255: 0.2 | L255: Minoritari | M255: cognom | N255: casa | O255: a: casa+article+nom propi | P255: f: llinatge
A256: =A255+1 -> 255 | B256: Cal Bombo | C256: Carrer de Sant Miquel Petit 15 | D256: Sant Roc | E256: masculí | F256: sí | G256: sí | H256: no | I256: sí | J256: sí | K256: 0.6 | L256: =IF(Noms_de_les_cases[[#This Row],[Nivell d''us (%)]]>0.7,"Habitual",IF(Noms_de_les_cases[[#This Row],[Nivell d''us (%)]]<0.3,"Minoritari","Ocasional")) -> Ocasional | M256: cognom | N256: casa | O256: a: casa+article+nom propi | P256: f: llinatge
A257: =A256+1 -> 256 | B257: Cal Bon Josep | C257: Carrer de Sant Llorenç 9 | D257: Sant Miquel | E257: masculí | F257: sí | G257: sí | H257: sí | I257: sí | J257: sí | K257: 0.6 | L257: =IF(Noms_de_les_cases[[#This Row],[Nivell d''us (%)]]>0.7,"Habitual",IF(Noms_de_les_cases[[#This Row],[Nivell d''us (%)]]<0.3,"Minoritari","Ocasional")) -> Ocasional | M257: nom | N257: família | O257: j: casa+article+adjectiu+nom propi | P257: e: prenom+malnom
A258: =A257+1 -> 257 | B258: Cal Bon Josep (sabateria) | C258: Carrer de Sant Llorenç 9 | D258: Sant Miquel | E258: masculí | F258: no | G258: sí | H258: sí | I258: no | J258: no | K258: 0.4 | L258: =IF(Noms_de_les_cases[[#This Row],[Nivell d''us (%)]]>0.7,"Habitual",IF(Noms_de_les_cases[[#This Row],[Nivell d''us (%)]]<0.3,"Minoritari","Ocasional")) -> Ocasional | M258: nom | N258: comerç | O258: j: casa+article+adjectiu+nom propi | P258: e: prenom+malnom
A259: =A258+1 -> 258 | B259: Cal Bonany | C259: Carrer de Llobera 25 | D259: Santa Anna | E259: masculí | F259: sí | G259: sí | H259: sí | I259: no | J259: sí | K259: 0.8 | L259: =IF(Noms_de_les_cases[[#This Row],[Nivell d''us (%)]]>0.7,"Habitual",IF(Noms_de_les_cases[[#This Row],[Nivell d''us (%)]]<0.3,"Minoritari","Ocasional")) -> Habitual | M259: cognom | N259: casa | O259: a: casa+article+nom propi | P259: f: llinatge
A260: =A259+1 -> 259 | B260: Cal Bonany | C260: Carrer de Llobera 27 i 29 | D260: Santa Anna | E260: masculí | F260: sí | G260: sí | H260: sí | I260: sí | J260: sí | K260: 0.8 | L260: =IF(Noms_de_les_cases[[#This Row],[Nivell d''us (%)]]>0.7,"Habitual",IF(Noms_de_les_cases[[#This Row],[Nivell d''us (%)]]<0.3,"Minoritari","Ocasional")) -> Habitual | M260: cognom | N260: casa | O260: a: casa+article+nom propi | P260: f: llinatge
A261: =A260+1 -> 260 | B261: Cal Bonany | C261: Carrer de Sant Roc 5 i 7 | D261: Sant Roc | E261: masculí | F261: sí | G261: sí | H261: sí | I261: no | J261: no | K261: 0.2 | L261: =IF(Noms_de_les_cases[[#This Row],[Nivell d''us (%)]]>0.7,"Habitual",IF(Noms_de_les_cases[[#This Row],[Nivell d''us (%)]]<0.3,"Minoritari","Ocasional")) -> Minoritari | M261: cognom | N261: casa | O261: a: casa+article+nom propi | P261: f: llinatge
A262: =A261+1 -> 261 | B262: Cal Borés | C262: Carrer de Sant Llorenç 46 | D262: Sant Llorenç | E262: masculí | F262: sí | G262: sí | H262: sí | I262: sí | J262: sí | K262: 1 | L262: =IF(Noms_de_les_cases[[#This Row],[Nivell d''us (%)]]>0.7,"Habitual",IF(Noms_de_les_cases[[#This Row],[Nivell d''us (%)]]<0.3,"Minoritari","Ocasional")) -> Habitual | M262: cognom | N262: casa | O262: a: casa+article+nom propi | P262: f: llinatge
A263: =A262+1 -> 262 | B263: Cal Borrells | C263: Plaça de Sant Roc 2 | D263: Sant Roc | E263: masculí | F263: sí | G263: no | H263: sí | I263: no | J263: no | K263: 0.2 | L263: =IF(Noms_de_les_cases[[#This Row],[Nivell d''us (%)]]>0.7,"Habitual",IF(Noms_de_les_cases[[#This Row],[Nivell d''us (%)]]<0.3,"Minoritari","Ocasional")) -> Minoritari | M263: cognom | N263: casa | O263: a: casa+article+nom propi | P263: f: llinatge
A264: =A263+1 -> 263 | B264: Cal Borrells | C264: Travessia de Sant Roc 3 | D264: Sant Roc | E264: masculí | F264: sí | G264: sí | H264: sí | I264: no | J264: no | K264: 0.2 | L264: =IF(Noms_de_les_cases[[#This Row],[Nivell d''us (%)]]>0.7,"Habitual",IF(Noms_de_les_cases[[#This Row],[Nivell d''us (%)]]<0.3,"Minoritari","Ocasional")) -> Minoritari | M264: cognom | N264: casa | O264: a: casa+article+nom propi | P264: m: origen
A265: =A264+1 -> 264 | B265: Cal Botiguer Nou | C265: Carrer de les Terceries 6 | D265: Sant Cristòfol | E265: masculí | F265: sí | G265: sí | H265: sí | I265: sí | J265: no | K265: 0.2 | L265: =IF(Noms_de_les_cases[[#This Row],[Nivell d''us (%)]]>0.7,"Habitual",IF(Noms_de_les_cases[[#This Row],[Nivell d''us (%)]]<0.3,"Minoritari","Ocasional")) -> Minoritari | M265: ofici | N265: comerç | O265: h: casa+article+nom comú+adjectiu | P265: l: ofici+malnom
A266: =A265+1 -> 265 | B266: Cal Brichs | C266: Plaça Sant Joan 15 | D266: Sant Joan | E266: masculí | F266: sí | G266: sí | H266: sí | I266: no | J266: no | K266: 0.2 | L266: =IF(Noms_de_les_cases[[#This Row],[Nivell d''us (%)]]>0.7,"Habitual",IF(Noms_de_les_cases[[#This Row],[Nivell d''us (%)]]<0.3,"Minoritari","Ocasional")) -> Minoritari | M266: cognom | N266: casa | O266: a: casa+article+nom propi | P266: f: llinatge
A267: =A266+1 -> 266 | B267: Cal Bromes | C267: Carrer de Sant Miquel Petit 1 | D267: Sant Roc | E267: masculí | F267: sí | G267: sí | H267: sí | I267: sí | J267: sí | K267: 0.8 | L267: =IF(Noms_de_les_cases[[#This Row],[Nivell d''us (%)]]>0.7,"Habitual",IF(Noms_de_les_cases[[#This Row],[Nivell d''us (%)]]<0.3,"Minoritari","Ocasional")) -> Habitual | M267: renom | N267: casa | O267: f: casa+article+nom comú | P267: o: malnom
... A1098: =A1097+1 -> 1097 | B1098: Xurreria Guitart | C1098: Carrer Castell 31 | D1098: Santa Susanna | E1098: femení | F1098: no | G1098: sí | H1098: sí | I1098: no | J1098: sí | K1098: 0.6 | L1098: =IF(Noms_de_les_cases[[#This Row],[Nivell d''us (%)]]>0.7,"Habitual",IF(Noms_de_les_cases[[#This Row],[Nivell d''us (%)]]<0.3,"Minoritari","Ocasional")) -> Ocasional | M1098: cognom | N1098: comerç | O1098: l: sintagma nominal | P1098: g: llinatge+ofici

Sheet Noms de cases
A1: # | B1: Nom Casa | C1: Adreça principal casa | D1: Barri | E1: Gènere | F1: Nom casa | G1: Casa existent? | H1: Documentat | I1: Nom destacat? | J1: Nom Actual? | K1: Nivell d'us (%) | L1: Nivell d'us | M1: Tipus | N1: Identifica | O1: Estructura morfològica | P1: Tipologia semàntica
A2: 1 | B2: Antiga Caixa de Pensions i Biblioteca | C2: Carrer Castell 32 | D2: Santa Susanna | E2: femení | F2: sí | G2: sí | H2: sí | I2: sí | J2: no | K2: 0.4 | L2: =IF(Noms_de_les_cases4[[#This Row],[Nivell d''us (%)]]>0.7,"Habitual",IF(Noms_de_les_cases4[[#This Row],[Nivell d''us (%)]]<0.3,"Minoritari","Ocasional")) -> Ocasional | M2: institució | N2: casa | O2: l: sintagma nominal | P2: q: nom comercial
A3: =A2+1 -> 2 | B3: Biblioteca Municipal Carles Morató | C3: Carrer Castell 19 | D3: Sant Domènec | E3: femení | F3: sí | G3: sí | H3: sí | I3: no | J3: sí | K3: 1 | L3: =IF(Noms_de_les_cases4[[#This Row],[Nivell d''us (%)]]>0.7,"Habitual",IF(Noms_de_les_cases4[[#This Row],[Nivell d''us (%)]]<0.3,"Minoritari","Ocasional")) -> Habitual | M3: institució | N3: casa | O3: l: sintagma nominal | P3: p: institució
A4: =A3+1 -> 3 | B4: Ca l’Aleix Vilalta | C4: Carrer de Santa Llúcia 13 i 15 | D4: Sant Llorenç | E4: masculí | F4: sí | G4: sí | H4: sí | I4: sí | J4: sí | K4: 0.6 | L4: =IF(Noms_de_les_cases4[[#This Row],[Nivell d''us (%)]]>0.7,"Habitual",IF(Noms_de_les_cases4[[#This Row],[Nivell d''us (%)]]<0.3,"Minoritari","Ocasional")) -> Ocasional | M4: cognom | N4: propietari | O4: b: casa+article+nom propi+nom propi | P4: b: prenom+llinatge
A5: =A4+1 -> 4 | B5: Ca l’August Font | C5: Carrer de Llobera 31 | D5: Santa Anna | E5: masculí | F5: sí | G5: sí | H5: sí | I5: no | J5: sí | K5: 0.6 | L5: =IF(Noms_de_les_cases4[[#This Row],[Nivell d''us (%)]]>0.7,"Habitual",IF(Noms_de_les_cases4[[#This Row],[Nivell d''us (%)]]<0.3,"Minoritari","Ocasional")) -> Ocasional | M5: cognom | N5: casa | O5: b: casa+article+nom propi+nom propi | P5: b: prenom+llinatge
A6: =A5+1 -> 5 | B6: Ca la Cabota | C6: Carrer de Sant Llorenç 40 | D6: Sant Llorenç | E6: femení | F6: sí | G6: sí | H6: sí | I6: no | J6: no | K6: 0.4 | L6: =IF(Noms_de_les_cases4[[#This Row],[Nivell d''us (%)]]>0.7,"Habitual",IF(Noms_de_les_cases4[[#This Row],[Nivell d''us (%)]]<0.3,"Minoritari","Ocasional")) -> Ocasional | M6: renom | N6: casa | O6: a: casa+article+nom propi | P6: o: malnom
A7: =A6+1 -> 6 | B7: Ca la Cañón | C7: Travessia de Sant Miquel Petit 4 | D7: Sant Roc | E7: femení | F7: sí | G7: sí | H7: no | I7: no | J7: no | K7: 0.2 | L7: =IF(Noms_de_les_cases4[[#This Row],[Nivell d''us (%)]]>0.7,"Habitual",IF(Noms_de_les_cases4[[#This Row],[Nivell d''us (%)]]<0.3,"Minoritari","Ocasional")) -> Minoritari | M7: renom | N7: família | O7: f: casa+article+nom comú | P7: o: malnom
A8: =A7+1 -> 7 | B8: Ca la Caputxina | C8: Carrer de Llobera 20 | D8: Santa Anna | E8: femení | F8: sí | G8: no | H8: sí | I8: sí | J8: no | K8: 0.2 | L8: =IF(Noms_de_les_cases4[[#This Row],[Nivell d''us (%)]]>0.7,"Habitual",IF(Noms_de_les_cases4[[#This Row],[Nivell d''us (%)]]<0.3,"Minoritari","Ocasional")) -> Minoritari | M8: origen | N8: casa | O8: f: casa+article+nom comú | P8: m: origen
A9: =A8+1 -> 8 | B9: Ca la Carme | C9: Carrer de Sant Miquel 10 | D9: Sant Miquel | E9: femení | F9: sí | G9: sí | H9: sí | I9: sí | J9: sí | K9: 1 | L9: =IF(Noms_de_les_cases4[[#This Row],[Nivell d''us (%)]]>0.7,"Habitual",IF(Noms_de_les_cases4[[#This Row],[Nivell d''us (%)]]<0.3,"Minoritari","Ocasional")) -> Habitual | M9: nom | N9: casa | O9: a: casa+article+nom propi | P9: a: prenom
A10: =A9+1 -> 9 | B10: Ca la Carme del carrer Llobera | C10: Carrer Llobera 7 | D10: Sant Serapi | E10: masculí | F10: sí | G10: sí | H10: sí | I10: no | J10: sí | K10: 0.8 | L10: =IF(Noms_de_les_cases4[[#This Row],[Nivell d''us (%)]]>0.7,"Habitual",IF(Noms_de_les_cases4[[#This Row],[Nivell d''us (%)]]<0.3,"Minoritari","Ocasional")) -> Habitual | M10: nom | N10: casa | O10: e: casa+article+nom propi+sintagma nominal | P10: d: prenom+origen
A11: =A10+1 -> 10 | B11: Ca la Carme Gras | C11: Plaça Sant Salvador 15 | D11: Sant Salvador | E11: femení | F11: sí | G11: sí | H11: sí | I11: sí | J11: sí | K11: 1 | L11: =IF(Noms_de_les_cases4[[#This Row],[Nivell d''us (%)]]>0.7,"Habitual",IF(Noms_de_les_cases4[[#This Row],[Nivell d''us (%)]]<0.3,"Minoritari","Ocasional")) -> Habitual | M11: nom | N11: comerç | O11: b: casa+article+nom propi+nom propi | P11: b: prenom+llinatge
A12: =A11+1 -> 11 | B12: Ca la Carmeta Bergadà | C12: Carrer Castell 27 | D12: Santa Susanna | E12: femení | F12: sí | G12: sí | H12: sí | I12: sí | J12: sí | K12: 0.6 | L12: =IF(Noms_de_les_cases4[[#This Row],[Nivell d''us (%)]]>0.7,"Habitual",IF(Noms_de_les_cases4[[#This Row],[Nivell d''us (%)]]<0.3,"Minoritari","Ocasional")) -> Ocasional | M12: nom | N12: casa | O12: b: casa+article+nom propi+nom propi | P12: b: prenom+llinatge
A13: =A12+1 -> 12 | B13: Ca la Carmeta Oriola | C13: Carrer de Sant Miquel Petit 11 | D13: Sant Roc | E13: femení | F13: sí | G13: sí | H13: sí | I13: sí | J13: sí | K13: 0.6 | L13: =IF(Noms_de_les_cases4[[#This Row],[Nivell d''us (%)]]>0.7,"Habitual",IF(Noms_de_les_cases4[[#This Row],[Nivell d''us (%)]]<0.3,"Minoritari","Ocasional")) -> Ocasional | M13: nom | N13: casa | O13: b: casa+article+nom propi+nom propi | P13: b: prenom+llinatge
A14: =A13+1 -> 13 | B14: Ca la Comadrona | C14: Carrer de Mirabalda 4 | D14: Sant Domènec | E14: femení | F14: sí | G14: sí | H14: sí | I14: no | J14: sí | K14: 0.8 | L14: =IF(Noms_de_les_cases4[[#This Row],[Nivell d''us (%)]]>0.7,"Habitual",IF(Noms_de_les_cases4[[#This Row],[Nivell d''us (%)]]<0.3,"Minoritari","Ocasional")) -> Habitual | M14: ofici | N14: família | O14: f: casa+article+nom comú | P14: j: ofici
... A168: =A167+1 -> 167 | B168: Cal Bolet | C168: Carrer de Sant Cristòfol 7 | D168: Sant Cristòfol | E168: masculí | F168: sí | G168: sí | H168: sí | I168: sí | J168: no | K168: 0.2 | L168: =IF(Noms_de_les_cases4[[#This Row],[Nivell d''us (%)]]>0.7,"Habitual",IF(Noms_de_les_cases4[[#This Row],[Nivell d''us (%)]]<0.3,"Minoritari","Ocasional")) -> Minoritari | M168: origen | N168: casa | O168: a: casa+article+nom propi | P168: m: origen
A169: =A168+1 -> 168 | B169: Cal Bombo | C169: Carrer de Sant Cristòfol 3 | D169: Sant Cristòfol | E169: masculí | F169: sí | G169: sí | H169: sí | I169: no | J169: no | K169: 0.2 | L169: Minoritari | M169: cognom | N169: casa | O169: a: casa+article+nom propi | P169: f: llinatge
A170: =A169+1 -> 169 | B170: Cal Bombo | C170: Carrer de Sant Miquel Petit 15 | D170: Sant Roc | E170: masculí | F170: sí | G170: sí | H170: no | I170: sí | J170: sí | K170: 0.6 | L170: =IF(Noms_de_les_cases4[[#This Row],[Nivell d''us (%)]]>0.7,"Habitual",IF(Noms_de_les_cases4[[#This Row],[Nivell d''us (%)]]<0.3,"Minoritari","Ocasional")) -> Ocasional | M170: cognom | N170: casa | O170: a: casa+article+nom propi | P170: f: llinatge
A171: =A170+1 -> 170 | B171: Cal Bon Josep | C171: Carrer de Sant Llorenç 9 | D171: Sant Miquel | E171: masculí | F171: sí | G171: sí | H171: sí | I171: sí | J171: sí | K171: 0.6 | L171: =IF(Noms_de_les_cases4[[#This Row],[Nivell d''us (%)]]>0.7,"Habitual",IF(Noms_de_les_cases4[[#This Row],[Nivell d''us (%)]]<0.3,"Minoritari","Ocasional")) -> Ocasional | M171: nom | N171: família | O171: j: casa+article+adjectiu+nom propi | P171: e: prenom+malnom
A172: =A171+1 -> 171 | B172: Cal Bonany | C172: Carrer de Llobera 25 | D172: Santa Anna | E172: masculí | F172: sí | G172: sí | H172: sí | I172: no | J172: sí | K172: 0.8 | L172: =IF(Noms_de_les_cases4[[#This Row],[Nivell d''us (%)]]>0.7,"Habitual",IF(Noms_de_les_cases4[[#This Row],[Nivell d''us (%)]]<0.3,"Minoritari","Ocasional")) -> Habitual | M172: cognom | N172: casa | O172: a: casa+article+nom propi | P172: f: llinatge
A173: =A172+1 -> 172 | B173: Cal Bonany | C173: Carrer de Llobera 27 i 29 | D173: Santa Anna | E173: masculí | F173: sí | G173: sí | H173: sí | I173: sí | J173: sí | K173: 0.8 | L173: =IF(Noms_de_les_cases4[[#This Row],[Nivell d''us (%)]]>0.7,"Habitual",IF(Noms_de_les_cases4[[#This Row],[Nivell d''us (%)]]<0.3,"Minoritari","Ocasional")) -> Habitual | M173: cognom | N173: casa | O173: a: casa+article+nom propi | P173: f: llinatge
A174: =A173+1 -> 173 | B174: Cal Bonany | C174: Carrer de Sant Roc 5 i 7 | D174: Sant Roc | E174: masculí | F174: sí | G174: sí | H174: sí | I174: no | J174: no | K174: 0.2 | L174: =IF(Noms_de_les_cases4[[#This Row],[Nivell d''us (%)]]>0.7,"Habitual",IF(Noms_de_les_cases4[[#This Row],[Nivell d''us (%)]]<0.3,"Minoritari","Ocasional")) -> Minoritari | M174: cognom | N174: casa | O174: a: casa+article+nom propi | P174: f: llinatge
A175: =A174+1 -> 174 | B175: Cal Borés | C175: Carrer de Sant Llorenç 46 | D175: Sant Llorenç | E175: masculí | F175: sí | G175: sí | H175: sí | I175: sí | J175: sí | K175: 1 | L175: =IF(Noms_de_les_cases4[[#This Row],[Nivell d''us (%)]]>0.7,"Habitual",IF(Noms_de_les_cases4[[#This Row],[Nivell d''us (%)]]<0.3,"Minoritari","Ocasional")) -> Habitual | M175: cognom | N175: casa | O175: a: casa+article+nom propi | P175: f: llinatge
A176: =A175+1 -> 175 | B176: Cal Borrells | C176: Plaça de Sant Roc 2 | D176: Sant Roc | E176: masculí | F176: sí | G176: no | H176: sí | I176: no | J176: no | K176: 0.2 | L176: =IF(Noms_de_les_cases4[[#This Row],[Nivell d''us (%)]]>0.7,"Habitual",IF(Noms_de_les_cases4[[#This Row],[Nivell d''us (%)]]<0.3,"Minoritari","Ocasional")) -> Minoritari | M176: cognom | N176: casa | O176: a: casa+article+nom propi | P176: f: llinatge
A177: =A176+1 -> 176 | B177: Cal Borrells | C177: Travessia de Sant Roc 3 | D177: Sant Roc | E177: masculí | F177: sí | G177: sí | H177: sí | I177: no | J177: no | K177: 0.2 | L177: =IF(Noms_de_les_cases4[[#This Row],[Nivell d''us (%)]]>0.7,"Habitual",IF(Noms_de_les_cases4[[#This Row],[Nivell d''us (%)]]<0.3,"Minoritari","Ocasional")) -> Minoritari | M177: cognom | N177: casa | O177: a: casa+article+nom propi | P177: m: origen
A178: =A177+1 -> 177 | B178: Cal Botiguer Nou | C178: Carrer de les Terceries 6 | D178: Sant Cristòfol | E178: masculí | F178: sí | G178: sí | H178: sí | I178: sí | J178: no | K178: 0.2 | L178: =IF(Noms_de_les_cases4[[#This Row],[Nivell d''us (%)]]>0.7,"Habitual",IF(Noms_de_les_cases4[[#This Row],[Nivell d''us (%)]]<0.3,"Minoritari","Ocasional")) -> Minoritari | M178: ofici | N178: comerç | O178: h: casa+article+nom comú+adjectiu | P178: l: ofici+malnom
A179: =A178+1 -> 178 | B179: Cal Brichs | C179: Plaça Sant Joan 15 | D179: Sant Joan | E179: masculí | F179: sí | G179: sí | H179: sí | I179: no | J179: no | K179: 0.2 | L179: =IF(Noms_de_les_cases4[[#This Row],[Nivell d''us (%)]]>0.7,"Habitual",IF(Noms_de_les_cases4[[#This Row],[Nivell d''us (%)]]<0.3,"Minoritari","Ocasional")) -> Minoritari | M179: cognom | N179: casa | O179: a: casa+article+nom propi | P179: f: llinatge
A180: =A179+1 -> 179 | B180: Cal Bromes | C180: Carrer de Sant Miquel Petit 1 | D180: Sant Roc | E180: masculí | F180: sí | G180: sí | H180: sí | I180: sí | J180: sí | K180: 0.8 | L180: =IF(Noms_de_les_cases4[[#This Row],[Nivell d''us (%)]]>0.7,"Habitual",IF(Noms_de_les_cases4[[#This Row],[Nivell d''us (%)]]<0.3,"Minoritari","Ocasional")) -> Habitual | M180: renom | N180: casa | O180: f: casa+article+nom comú | P180: o: malnom
A181: =A180+1 -> 180 | B181: Cal Brustos | C181: Carrer de Santa Llúcia 22 | D181: Sant Llorenç | E181: masculí | F181: sí | G181: sí | H181: no | I181: sí | J181: no | K181: 0.2 | L181: =IF(Noms_de_les_cases4[[#This Row],[Nivell d''us (%)]]>0.7,"Habitual",IF(Noms_de_les_cases4[[#This Row],[Nivell d''us (%)]]<0.3,"Minoritari","Ocasional")) -> Minoritari | M181: cognom | N181: casa | O181: a: casa+article+nom propi | P181: f: llinatge
... A771: =A770+1 -> 770 | B771: Vila de Busa | C771: Plaça Sant Joan 8 | D771: Sant Joan | E771: masculí | F771: sí | G771: sí | H771: sí | I771: no | J771: no | K771: 0.2 | L771: =IF(Noms_de_les_cases4[[#This Row],[Nivell d''us (%)]]>0.7,"Habitual",IF(Noms_de_les_cases4[[#This Row],[Nivell d''us (%)]]<0.3,"Minoritari","Ocasional")) -> Minoritari | M771: origen | N771: propietari | O771: l: sintagma nominal | P771: m: origen

Sheet Noms cases sense repetir
A1: # | B1: Nom Casa | C1: Adreça principal casa | D1: Barri | E1: Gènere | F1: Nom casa | G1: Casa existent? | H1: Documentat | I1: Nom destacat? | J1: Nom Actual? | K1: Nivell d'us (%) | L1: Nivell d'us | M1: Tipus | N1: Identifica | O1: Estructura morfològica | P1: Tipologia semàntica
A2: 1 | B2: Antiga Caixa de Pensions i Biblioteca | C2: Carrer Castell 32 | D2: Santa Susanna | E2: femení | F2: sí | G2: sí | H2: sí | I2: sí | J2: no | K2: 0.4 | L2: =IF(Noms_de_les_cases45[[#This Row],[Nivell d''us (%)]]>0.7,"Habitual",IF(Noms_de_les_cases45[[#This Row],[Nivell d''us (%)]]<0.3,"Minoritari","Ocasional")) -> Ocasional | M2: institució | N2: casa | O2: l: sintagma nominal | P2: q: nom comercial
A3: =A2+1 -> 2 | B3: Biblioteca Municipal Carles Morató | C3: Carrer Castell 19 | D3: Sant Domènec | E3: femení | F3: sí | G3: sí | H3: sí | I3: no | J3: sí | K3: 1 | L3: =IF(Noms_de_les_cases45[[#This Row],[Nivell d''us (%)]]>0.7,"Habitual",IF(Noms_de_les_cases45[[#This Row],[Nivell d''us (%)]]<0.3,"Minoritari","Ocasional")) -> Habitual | M3: institució | N3: casa | O3: l: sintagma nominal | P3: p: institució
A4: =A3+1 -> 3 | B4: Ca l’Aleix Vilalta | C4: Carrer de Santa Llúcia 13 i 15 | D4: Sant Llorenç | E4: masculí | F4: sí | G4: sí | H4: sí | I4: sí | J4: sí | K4: 0.6 | L4: =IF(Noms_de_les_cases45[[#This Row],[Nivell d''us (%)]]>0.7,"Habitual",IF(Noms_de_les_cases45[[#This Row],[Nivell d''us (%)]]<0.3,"Minoritari","Ocasional")) -> Ocasional | M4: cognom | N4: propietari | O4: b: casa+article+nom propi+nom propi | P4: b: prenom+llinatge
A5: =A4+1 -> 4 | B5: Ca l’August Font | C5: Carrer de Llobera 31 | D5: Santa Anna | E5: masculí | F5: sí | G5: sí | H5: sí | I5: no | J5: sí | K5: 0.6 | L5: =IF(Noms_de_les_cases45[[#This Row],[Nivell d''us (%)]]>0.7,"Habitual",IF(Noms_de_les_cases45[[#This Row],[Nivell d''us (%)]]<0.3,"Minoritari","Ocasional")) -> Ocasional | M5: cognom | N5: casa | O5: b: casa+article+nom propi+nom propi | P5: b: prenom+llinatge
A6: =A5+1 -> 5 | B6: Ca la Cabota | C6: Carrer de Sant Llorenç 40 | D6: Sant Llorenç | E6: femení | F6: sí | G6: sí | H6: sí | I6: no | J6: no | K6: 0.4 | L6: =IF(Noms_de_les_cases45[[#This Row],[Nivell d''us (%)]]>0.7,"Habitual",IF(Noms_de_les_cases45[[#This Row],[Nivell d''us (%)]]<0.3,"Minoritari","Ocasional")) -> Ocasional | M6: renom | N6: casa | O6: a: casa+article+nom propi | P6: o: malnom
A7: =A6+1 -> 6 | B7: Ca la Cañón | C7: Travessia de Sant Miquel Petit 4 | D7: Sant Roc | E7: femení | F7: sí | G7: sí | H7: no | I7: no | J7: no | K7: 0.2 | L7: =IF(Noms_de_les_cases45[[#This Row],[Nivell d''us (%)]]>0.7,"Habitual",IF(Noms_de_les_cases45[[#This Row],[Nivell d''us (%)]]<0.3,"Minoritari","Ocasional")) -> Minoritari | M7: renom | N7: família | O7: f: casa+article+nom comú | P7: o: malnom
A8: =A7+1 -> 7 | B8: Ca la Caputxina | C8: Carrer de Llobera 20 | D8: Santa Anna | E8: femení | F8: sí | G8: no | H8: sí | I8: sí | J8: no | K8: 0.2 | L8: =IF(Noms_de_les_cases45[[#This Row],[Nivell d''us (%)]]>0.7,"Habitual",IF(Noms_de_les_cases45[[#This Row],[Nivell d''us (%)]]<0.3,"Minoritari","Ocasional")) -> Minoritari | M8: origen | N8: casa | O8: f: casa+article+nom comú | P8: m: origen
A9: =A8+1 -> 8 | B9: Ca la Carme | C9: Carrer de Sant Miquel 10 | D9: Sant Miquel | E9: femení | F9: sí | G9: sí | H9: sí | I9: sí | J9: sí | K9: 1 | L9: =IF(Noms_de_les_cases45[[#This Row],[Nivell d''us (%)]]>0.7,"Habitual",IF(Noms_de_les_cases45[[#This Row],[Nivell d''us (%)]]<0.3,"Minoritari","Ocasional")) -> Habitual | M9: nom | N9: casa | O9: a: casa+article+nom propi | P9: a: prenom
A10: =A9+1 -> 9 | B10: Ca la Carme del carrer Llobera | C10: Carrer Llobera 7 | D10: Sant Serapi | E10: masculí | F10: sí | G10: sí | H10: sí | I10: no | J10: sí | K10: 0.8 | L10: =IF(Noms_de_les_cases45[[#This Row],[Nivell d''us (%)]]>0.7,"Habitual",IF(Noms_de_les_cases45[[#This Row],[Nivell d''us (%)]]<0.3,"Minoritari","Ocasional")) -> Habitual | M10: nom | N10: casa | O10: e: casa+article+nom propi+sintagma nominal | P10: d: prenom+origen
A11: =A10+1 -> 10 | B11: Ca la Carme Gras | C11: Plaça Sant Salvador 15 | D11: Sant Salvador | E11: femení | F11: sí | G11: sí | H11: sí | I11: sí | J11: sí | K11: 1 | L11: =IF(Noms_de_les_cases45[[#This Row],[Nivell d''us (%)]]>0.7,"Habitual",IF(Noms_de_les_cases45[[#This Row],[Nivell d''us (%)]]<0.3,"Minoritari","Ocasional")) -> Habitual | M11: nom | N11: comerç | O11: b: casa+article+nom propi+nom propi | P11: b: prenom+llinatge
A12: =A11+1 -> 11 | B12: Ca la Carmeta Bergadà | C12: Carrer Castell 27 | D12: Santa Susanna | E12: femení | F12: sí | G12: sí | H12: sí | I12: sí | J12: sí | K12: 0.6 | L12: =IF(Noms_de_les_cases45[[#This Row],[Nivell d''us (%)]]>0.7,"Habitual",IF(Noms_de_les_cases45[[#This Row],[Nivell d''us (%)]]<0.3,"Minoritari","Ocasional")) -> Ocasional | M12: nom | N12: casa | O12: b: casa+article+nom propi+nom propi | P12: b: prenom+llinatge
A13: =A12+1 -> 12 | B13: Ca la Carmeta Oriola | C13: Carrer de Sant Miquel Petit 11 | D13: Sant Roc | E13: femení | F13: sí | G13: sí | H13: sí | I13: sí | J13: sí | K13: 0.6 | L13: =IF(Noms_de_les_cases45[[#This Row],[Nivell d''us (%)]]>0.7,"Habitual",IF(Noms_de_les_cases45[[#This Row],[Nivell d''us (%)]]<0.3,"Minoritari","Ocasional")) -> Ocasional | M13: nom | N13: casa | O13: b: casa+article+nom propi+nom propi | P13: b: prenom+llinatge
A14: =A13+1 -> 13 | B14: Ca la Comadrona | C14: Carrer de Mirabalda 4 | D14: Sant Domènec | E14: femení | F14: sí | G14: sí | H14: sí | I14: no | J14: sí | K14: 0.8 | L14: =IF(Noms_de_les_cases45[[#This Row],[Nivell d''us (%)]]>0.7,"Habitual",IF(Noms_de_les_cases45[[#This Row],[Nivell d''us (%)]]<0.3,"Minoritari","Ocasional")) -> Habitual | M14: ofici | N14: família | O14: f: casa+article+nom comú | P14: j: ofici
... A699: =A698+1 -> 698 | B699: Vila de Busa | C699: Plaça Sant Joan 8 | D699: Sant Joan | E699: masculí | F699: sí | G699: sí | H699: sí | I699: no | J699: no | K699: 0.2 | L699: =IF(Noms_de_les_cases45[[#This Row],[Nivell d''us (%)]]>0.7,"Habitual",IF(Noms_de_les_cases45[[#This Row],[Nivell d''us (%)]]<0.3,"Minoritari","Ocasional")) -> Minoritari | M699: origen | N699: propietari | O699: l: sintagma nominal | P699: m: origen

Sheet Clasificacions
A1: Estructura morfològica | C1: Tipologia semàntica
A2: a: casa+article+nom propi | C2: a: prenom
A3: b: casa+article+nom propi+nom propi | C3: b: prenom+llinatge
A4: c: casa+article+nom propi+nom comú | C4: c: prenom+ofici
A5: d: casa+article+nom propi+adjectiu | C5: d: prenom+origen
A6: e: casa+article+nom propi+sintagma nominal | C6: e: prenom+malnom
A7: f: casa+article+nom comú | C7: f: llinatge
A8: g: casa+article+nom comú+nom propi | C8: g: llinatge+ofici
A9: h: casa+article+nom comú+adjectiu | C9: h: llinatge+origen
A10: i: casa+article+nom comú+sintagma nominal | C10: i: llinatge+malnom
A11: j: casa+article+adjectiu+nom propi | C11: j: ofici
A12: k: casa+article+adjectiu+nom comú | C12: k: ofici+origen
A13: l: sintagma nominal | C13: l: ofici+malnom
C14: m: origen
C15: n: origen+malnom
C16: o: malnom
C17: p: institució
C18: q: nom comercial
C19: x: opac
I20: 112 | K20: Etiquetas de fila | L20: Cuenta de Nom Casa
H21: Noms sense repeticions | I21: =690-112+51 -> 629 | K21: Total general
A22: Etiquetas de fila | B22: Cuenta de Adreça principal casa | D22: Etiquetas de fila | E22: Cuenta de Adreça principal casa | F22: Cuenta de Nom Casa | H22: Etiquetas de fila | I22: Cuenta de Nom Casa
A23: Carrer Castell 1, 3 i 5 | B23: 1 | D23: Carrer Castell 10 i 12 | E23: 7 | F23: 7 | H23: Ca l’Ayeto | I23: 2
A24: Carrer Castell 10 | B24: 2 | D24: Barberia Queralt | E24: 1 | F24: 1 | H24: Ca l’Esquenamoll | I24: 2
A25: Carrer Castell 10 i 12 | B25: 7 | D25: Cal Gras | E25: 1 | F25: 1 | H25: Ca l’Om | I25: 3
A26: Carrer Castell 11 | B26: 3 | D26: Cal Jan (barberia) | E26: 1 | F26: 1 | H26: Ca la Margarita Estasia | I26: 2
A27: Carrer Castell 12 | B27: 1 | D27: Cal Jou | E27: 1 | F27: 1 | H27: Ca la Vilaneta | I27: 2
A28: Carrer Castell 13 | B28: 4 | D28: Cal Pixabrunzent (barber) | E28: 1 | F28: 1 | H28: Cal Baiget | I28: 2
A29: Carrer Castell 14 | B29: 5 | D29: Farmàcia Aldomà | E29: 1 | F29: 1 | H29: Cal Bajona | I29: 4
A30: Carrer Castell 15 | B30: 4 | D30: La Vinya (bar) | E30: 1 | F30: 1 | H30: Cal Balès | I30: 2
A31: Carrer Castell 16 | B31: 4 | D31: Carrer Castell 21 | E31: 12 | F31: 12 | H31: Cal Bombo | I31: 2
A32: Carrer Castell 17 | B32: 6 | D32: Bar Dinàmic (cafeteria) | E32: 1 | F32: 1 | H32: Cal Bonany | I32: 2
A33: Carrer Castell 18 | B33: 6 | D33: Caixa Catalunya | E33: 1 | F33: 1 | H33: Cal Camaret | I33: 3
A34: Carrer Castell 19 | B34: 5 | D34: Cal Llumà | E34: 1 | F34: 1 | H34: Cal Canal | I34: 3
... A70: Carrer Castell 6 | B70: 13 | D70: El Petit Petó (llenceria) | E70: 1 | F70: 1 | H70: Total general | I70: 104
A71: Carrer Castell 7 | B71: 1 | D71: Globus Pirineu | E71: 1 | F71: 1
A72: Carrer Castell 8 | B72: 5 | D72: L’Espardenyera Gràfica | E72: 1 | F72: 1
A73: Carrer Castell 9 | B73: 2 | D73: Podoclínic Carles Arnau | E73: 1 | F73: 1
A74: Carrer de la Mare de Déu 2 | B74: 6 | D74: Ràdio Solsona | E74: 1 | F74: 1
A75: Carrer de la Mare de Déu 4 | B75: 3 | D75: La Dàlia | E75: 1 | F75: 1
...
